BEGIN:VCALENDAR
VERSION:2.0
PRODID:-//Conexus Financial - ECPv4.8.0.1//NONSGML v1.0//EN
CALSCALE:GREGORIAN
METHOD:PUBLISH
X-WR-CALNAME:Conexus Financial
X-ORIGINAL-URL:https://conexusfinancial.com.au
X-WR-CALDESC:Events for Conexus Financial
BEGIN:VEVENT
DTSTART;VALUE=DATE:20190603
DTEND;VALUE=DATE:20190605
DTSTAMP:20190301T145557
CREATED:20170530T050944Z
LAST-MODIFIED:20180806T074027Z
UID:1215-1559520000-1559692799@conexusfinancial.com.au
SUMMARY:Licensee Summit
DESCRIPTION:
URL:https://conexusfinancial.com.au/event/licensee-summit/
LOCATION:Blue Mountains\, Blue Mountains\, NSW\, Australia
CATEGORIES:Professional Planner
ATTACH;FMTTYPE=image/png:https://conexusfinancial.com.au/wp-content/uploads/2017/05/Events-2018_calendar_100dpi_-15.png
END:VEVENT
END:VCALENDAR