BEGIN:VCALENDAR
VERSION:2.0
PRODID:-//Conexus Financial - ECPv4.8.0.1//NONSGML v1.0//EN
CALSCALE:GREGORIAN
METHOD:PUBLISH
X-WR-CALNAME:Conexus Financial
X-ORIGINAL-URL:https://conexusfinancial.com.au
X-WR-CALDESC:Events for Conexus Financial
BEGIN:VEVENT
DTSTART;VALUE=DATE:20181204
DTEND;VALUE=DATE:20181205
DTSTAMP:20190301T145513
CREATED:20170530T061036Z
LAST-MODIFIED:20180717T062857Z
UID:1238-1543881600-1543967999@conexusfinancial.com.au
SUMMARY:Researcher Forum
DESCRIPTION:
URL:https://conexusfinancial.com.au/event/researcher-forum/
LOCATION:Amora Hotel Jamison\, Amora Hotel Jamison\, NSW\, Australia
CATEGORIES:Professional Planner
ATTACH;FMTTYPE=image/png:https://conexusfinancial.com.au/wp-content/uploads/2017/05/Events-2018_calendar_100dpi_-09.png
END:VEVENT
END:VCALENDAR