BEGIN:VCALENDAR
VERSION:2.0
PRODID:-//Conexus Financial - ECPv4.8.0.1//NONSGML v1.0//EN
CALSCALE:GREGORIAN
METHOD:PUBLISH
X-WR-CALNAME:Conexus Financial
X-ORIGINAL-URL:https://conexusfinancial.com.au
X-WR-CALDESC:Events for Conexus Financial
BEGIN:VEVENT
DTSTART;VALUE=DATE:20190813
DTEND;VALUE=DATE:20190814
DTSTAMP:20190301T150420
CREATED:20180717T043635Z
LAST-MODIFIED:20181115T045129Z
UID:1596-1565654400-1565740799@conexusfinancial.com.au
SUMMARY:Group Insurance Summit
DESCRIPTION:
URL:https://conexusfinancial.com.au/event/group-insurance-summit-2/
LOCATION:Four Seasons\, NSW\, Four Seasons\, NSW\, Australia
CATEGORIES:Investment Magazine
ATTACH;FMTTYPE=image/png:https://d3bvl5ctz3vwmj.cloudfront.net/wp-content/uploads/2018/07/17143701/Events-2018_calendar_100dpi_-12.png
END:VEVENT
END:VCALENDAR